Package: EpiTxDb.Mm.mm10 Version: 0.99.6 Command: /home/biocbuild/bbs-3.22-bioc/R/bin/R CMD INSTALL EpiTxDb.Mm.mm10 StartedAt: 2025-10-01 05:55:31 -0400 (Wed, 01 Oct 2025) EndedAt: 2025-10-01 05:56:10 -0400 (Wed, 01 Oct 2025) EllapsedTime: 38.8 seconds RetCode: 0 Status: OK