Package: EpiTxDb.Hs.hg38 Version: 0.99.7 Command: /home/biocbuild/bbs-3.22-bioc/R/bin/R CMD INSTALL EpiTxDb.Hs.hg38 StartedAt: 2025-10-01 05:55:27 -0400 (Wed, 01 Oct 2025) EndedAt: 2025-10-01 05:56:06 -0400 (Wed, 01 Oct 2025) EllapsedTime: 38.8 seconds RetCode: 0 Status: OK