Package: EPICv2manifest Version: 0.99.7 Command: /home/biocbuild/bbs-3.22-bioc/R/bin/R CMD INSTALL EPICv2manifest StartedAt: 2025-10-22 05:55:10 -0400 (Wed, 22 Oct 2025) EndedAt: 2025-10-22 05:55:21 -0400 (Wed, 22 Oct 2025) EllapsedTime: 11.3 seconds RetCode: 0 Status: OK