Package: EPICv2manifest Version: 0.99.7 Command: /home/biocbuild/bbs-3.22-bioc/R/bin/R CMD build --keep-empty-dirs --no-resave-data EPICv2manifest StartedAt: 2025-10-22 05:56:49 -0400 (Wed, 22 Oct 2025) EndedAt: 2025-10-22 05:57:12 -0400 (Wed, 22 Oct 2025) EllapsedTime: 22.6 seconds RetCode: 0 Status: OK PackageFile: EPICv2manifest_0.99.7.tar.gz PackageFileSize: 7.224 KiB