Package: CTCF Version: 0.99.12 Command: /home/biocbuild/bbs-3.22-bioc/R/bin/R CMD build --keep-empty-dirs --no-resave-data CTCF StartedAt: 2025-10-01 05:56:16 -0400 (Wed, 01 Oct 2025) EndedAt: 2025-10-01 05:57:07 -0400 (Wed, 01 Oct 2025) EllapsedTime: 50.8 seconds RetCode: 0 Status: OK PackageFile: CTCF_0.99.12.tar.gz PackageFileSize: 3.011 MiB