Package: BioMartGOGeneSets Version: 0.99.11 Command: /home/biocbuild/bbs-3.22-bioc/R/bin/R CMD build --keep-empty-dirs --no-resave-data BioMartGOGeneSets StartedAt: 2025-09-24 05:56:16 -0400 (Wed, 24 Sep 2025) EndedAt: 2025-09-24 05:57:05 -0400 (Wed, 24 Sep 2025) EllapsedTime: 49.5 seconds RetCode: 0 Status: OK PackageFile: BioMartGOGeneSets_0.99.11.tar.gz PackageFileSize: 819.2 KiB