Package: AHLRBaseDbs Version: 1.8.0 Command: /home/biocbuild/bbs-3.22-bioc/R/bin/R CMD build --keep-empty-dirs --no-resave-data AHLRBaseDbs StartedAt: 2025-10-15 05:56:16 -0400 (Wed, 15 Oct 2025) EndedAt: 2025-10-15 05:56:31 -0400 (Wed, 15 Oct 2025) EllapsedTime: 15.1 seconds RetCode: 0 Status: OK PackageFile: AHLRBaseDbs_1.8.0.tar.gz PackageFileSize: 340.3 KiB