Back to Long Tests report for BioC 3.22

This page was generated on 2025-11-01 23:55 -0400 (Sat, 01 Nov 2025).

HostnameOSArch (*)R versionInstalled pkgs
nebbiolo2Linux (Ubuntu 24.04.3 LTS)x86_644.5.1 Patched (2025-08-23 r88802) -- "Great Square Root" 4901
lconwaymacOS 12.7.6 Montereyx86_644.5.1 Patched (2025-09-10 r88807) -- "Great Square Root" 4691
Click on any hostname to see more info about the system (e.g. compilers)      (*) as reported by 'uname -p', except on Windows and Mac OS X

All results for package mosdef


To the developers/maintainers of the mosdef package:
- Use the following Renviron settings to reproduce errors and warnings.
- If 'R CMD check' started to fail recently on the Linux builder(s) over a missing dependency, add the missing dependency to 'Suggests:' in your DESCRIPTION file. See Renviron.bioc for more information.

raw results

Package 25/31HostnameOS / ArchCHECK
mosdef 1.6.0  (landing page)
Federico Marini
Snapshot Date: 2025-11-01 09:55 -0400 (Sat, 01 Nov 2025)
git_url: https://git.bioconductor.org/packages/mosdef
git_branch: RELEASE_3_22
git_last_commit: b5bb63e
git_last_commit_date: 2025-10-29 11:29:58 -0400 (Wed, 29 Oct 2025)
nebbiolo2Linux (Ubuntu 24.04.3 LTS) / x86_64  OK  
lconwaymacOS 12.7.6 Monterey / x86_64  OK