Package: clusterExperiment Version: 2.30.0 Maintainer: Elizabeth Purdom MaintainerEmail: epurdom at stat.berkeley.edu git_url: https://git.bioconductor.org/packages/clusterExperiment git_branch: RELEASE_3_22 git_last_commit: 86a6cae git_last_commit_date: 2025-10-29 10:33:07 -0500 (Wed, 29 Oct 2025)