Package: GenomicFeatures Version: 1.62.0 Maintainer: H. Pagès MaintainerEmail: hpages.on.github at gmail.com git_url: https://git.bioconductor.org/packages/GenomicFeatures git_branch: RELEASE_3_22 git_last_commit: f4dfd41 git_last_commit_date: 2025-10-29 14:16:45 -0500 (Wed, 29 Oct 2025)