Package: DropletUtils Version: 1.30.0 Maintainer: Jonathan Griffiths MaintainerEmail: jonathan.griffiths.94 at gmail.com git_url: https://git.bioconductor.org/packages/DropletUtils git_branch: RELEASE_3_22 git_last_commit: 6ef5eaa git_last_commit_date: 2025-10-29 10:42:43 -0400 (Wed, 29 Oct 2025)