Package: scviR Version: 1.9.13 Command: /home/biocbuild/bbs-3.22-bioc-gpu/R/bin/R CMD INSTALL scviR StartedAt: 2025-10-18 07:45:33 -0400 (Sat, 18 Oct 2025) EndedAt: 2025-10-18 07:46:33 -0400 (Sat, 18 Oct 2025) EllapsedTime: 60.0 seconds RetCode: 0 Status: OK