Package: scviR Version: 1.9.13 Command: /home/biocbuild/bbs-3.22-bioc-gpu/R/bin/R CMD build --keep-empty-dirs --no-resave-data scviR StartedAt: 2025-10-18 07:54:41 -0400 (Sat, 18 Oct 2025) EndedAt: 2025-10-18 07:55:48 -0400 (Sat, 18 Oct 2025) EllapsedTime: 67.0 seconds RetCode: 1 Status: ERROR PackageFile: None PackageFileSize: NA