Package: RbowtieCuda Version: 1.2.0 Command: /home/biocbuild/bbs-3.22-bioc-gpu/R/bin/R CMD INSTALL RbowtieCuda StartedAt: 2025-11-02 01:45:12 -0400 (Sun, 02 Nov 2025) EndedAt: 2025-11-02 01:49:18 -0400 (Sun, 02 Nov 2025) EllapsedTime: 246.0 seconds RetCode: 0 Status: OK