Package: RbowtieCuda Version: 1.2.0 Command: /home/biocbuild/bbs-3.22-bioc-gpu/R/bin/R CMD build --keep-empty-dirs --no-resave-data RbowtieCuda StartedAt: 2025-11-02 01:51:43 -0400 (Sun, 02 Nov 2025) EndedAt: 2025-11-02 01:56:20 -0400 (Sun, 02 Nov 2025) EllapsedTime: 277.2 seconds RetCode: 0 Status: OK PackageFile: RbowtieCuda_1.2.0.tar.gz PackageFileSize: 27.95 MiB