Package: zenith Version: 1.12.0 Command: /home/biocbuild/bbs-3.22-bioc/R/bin/R CMD INSTALL zenith StartedAt: 2025-11-14 16:02:44 -0500 (Fri, 14 Nov 2025) EndedAt: 2025-11-14 16:03:21 -0500 (Fri, 14 Nov 2025) EllapsedTime: 37.4 seconds RetCode: 0 Status: OK