Package: zenith Version: 1.12.0 Command: /home/biocbuild/bbs-3.22-bioc/R/bin/R CMD build --keep-empty-dirs --no-resave-data --md5 zenith StartedAt: 2025-11-14 20:56:34 -0500 (Fri, 14 Nov 2025) EndedAt: 2025-11-14 20:58:13 -0500 (Fri, 14 Nov 2025) EllapsedTime: 99.0 seconds RetCode: 0 Status: OK PackageFile: zenith_1.12.0.tar.gz PackageFileSize: 666.8 KiB