Package: xmapbridge Version: 1.68.0 Command: /home/biocbuild/bbs-3.22-bioc/R/bin/R CMD INSTALL xmapbridge StartedAt: 2025-11-10 15:07:06 -0500 (Mon, 10 Nov 2025) EndedAt: 2025-11-10 15:07:13 -0500 (Mon, 10 Nov 2025) EllapsedTime: 6.9 seconds RetCode: 0 Status: OK