Package: xenLite Version: 1.3.0 Command: /home/biocbuild/bbs-3.22-bioc/R/bin/R CMD INSTALL xenLite StartedAt: 2025-10-10 15:36:49 -0400 (Fri, 10 Oct 2025) EndedAt: 2025-10-10 15:37:22 -0400 (Fri, 10 Oct 2025) EllapsedTime: 33.2 seconds RetCode: 0 Status: OK