Package: xenLite Version: 1.4.0 Command: /Library/Frameworks/R.framework/Resources/bin/R CMD INSTALL xenLite StartedAt: 2025-11-10 15:15:09 -0500 (Mon, 10 Nov 2025) EndedAt: 2025-11-10 15:15:23 -0500 (Mon, 10 Nov 2025) EllapsedTime: 13.6 seconds RetCode: 0 Status: OK