Package: xenLite Version: 1.4.0 Command: /Library/Frameworks/R.framework/Resources/bin/R CMD build --keep-empty-dirs --no-resave-data xenLite StartedAt: 2025-11-10 18:10:11 -0500 (Mon, 10 Nov 2025) EndedAt: 2025-11-10 18:10:35 -0500 (Mon, 10 Nov 2025) EllapsedTime: 23.2 seconds RetCode: 0 Status: OK PackageFile: xenLite_1.4.0.tar.gz PackageFileSize: 3.35 MiB