Package: xcms Version: 4.7.3 Command: /Library/Frameworks/R.framework/Resources/bin/R CMD INSTALL xcms StartedAt: 2025-10-28 15:40:57 -0400 (Tue, 28 Oct 2025) EndedAt: 2025-10-28 15:43:14 -0400 (Tue, 28 Oct 2025) EllapsedTime: 136.9 seconds RetCode: 0 Status: OK