Package: xcms Version: 4.7.3 Command: /Library/Frameworks/R.framework/Resources/bin/R CMD build --keep-empty-dirs --no-resave-data xcms StartedAt: 2025-10-28 19:12:15 -0400 (Tue, 28 Oct 2025) EndedAt: 2025-10-28 19:17:14 -0400 (Tue, 28 Oct 2025) EllapsedTime: 298.8 seconds RetCode: 0 Status: OK PackageFile: xcms_4.7.3.tar.gz PackageFileSize: 8.882 MiB