Package: xcms Version: 4.7.3 Command: rm -rf xcms.buildbin-libdir && mkdir xcms.buildbin-libdir && /Users/biocbuild/BBS/utils/build-universal.sh xcms_4.7.3.tar.gz /Library/Frameworks/R.framework/Resources/bin/R xcms.buildbin-libdir StartedAt: 2025-10-29 02:05:09 -0400 (Wed, 29 Oct 2025) EndedAt: 2025-10-29 02:06:45 -0400 (Wed, 29 Oct 2025) EllapsedTime: 95.2 seconds RetCode: 0 Status: OK PackageFile: xcms_4.7.3.tgz PackageFileSize: 11.83 MiB