Package: xcms Version: 4.8.0 Maintainer: Steffen Neumann MaintainerEmail: sneumann at ipb-halle.de git_url: https://git.bioconductor.org/packages/xcms git_branch: RELEASE_3_22 git_last_commit: 8c7e9cf git_last_commit_date: 2025-10-29 09:56:19 -0400 (Wed, 29 Oct 2025)