Package: wppi Version: 1.18.0 Command: /home/biocbuild/bbs-3.22-bioc/R/bin/R CMD INSTALL wppi StartedAt: 2025-11-16 15:10:11 -0500 (Sun, 16 Nov 2025) EndedAt: 2025-11-16 15:10:30 -0500 (Sun, 16 Nov 2025) EllapsedTime: 19.1 seconds RetCode: 0 Status: OK