Package: wppi Version: 1.18.0 Command: /home/biocbuild/bbs-3.22-bioc/R/bin/R CMD build --keep-empty-dirs --no-resave-data --md5 wppi StartedAt: 2025-11-14 20:54:58 -0500 (Fri, 14 Nov 2025) EndedAt: 2025-11-14 21:00:24 -0500 (Fri, 14 Nov 2025) EllapsedTime: 326.1 seconds RetCode: 0 Status: OK PackageFile: wppi_1.18.0.tar.gz PackageFileSize: 647.9 KiB