Package: wiggleplotr Version: 1.34.0 Command: /home/biocbuild/R/R/bin/R CMD build --keep-empty-dirs --no-resave-data wiggleplotr StartedAt: 2025-11-14 06:20:56 -0000 (Fri, 14 Nov 2025) EndedAt: 2025-11-14 06:21:46 -0000 (Fri, 14 Nov 2025) EllapsedTime: 50.1 seconds RetCode: 0 Status: OK PackageFile: wiggleplotr_1.34.0.tar.gz PackageFileSize: 207.9 KiB