Package: wiggleplotr Version: 1.33.2 Command: /home/biocbuild/bbs-3.22-bioc/R/bin/R CMD INSTALL wiggleplotr StartedAt: 2025-10-24 15:37:28 -0400 (Fri, 24 Oct 2025) EndedAt: 2025-10-24 15:37:33 -0400 (Fri, 24 Oct 2025) EllapsedTime: 4.5 seconds RetCode: 0 Status: OK