Package: wiggleplotr Version: 1.34.0 Command: /home/biocbuild/bbs-3.22-bioc/R/bin/R CMD check --install=check:wiggleplotr.install-out.txt --library=/home/biocbuild/bbs-3.22-bioc/R/site-library --timings wiggleplotr_1.34.0.tar.gz StartedAt: 2025-11-18 09:53:30 -0500 (Tue, 18 Nov 2025) EndedAt: 2025-11-18 09:55:18 -0500 (Tue, 18 Nov 2025) EllapsedTime: 108.1 seconds RetCode: 0 Status: OK CheckDir: wiggleplotr.Rcheck Warnings: 0