Package: wiggleplotr Version: 1.33.2 Command: /home/biocbuild/bbs-3.22-bioc/R/bin/R CMD build --keep-empty-dirs --no-resave-data --md5 wiggleplotr StartedAt: 2025-10-24 20:54:20 -0400 (Fri, 24 Oct 2025) EndedAt: 2025-10-24 20:54:54 -0400 (Fri, 24 Oct 2025) EllapsedTime: 34.0 seconds RetCode: 0 Status: OK PackageFile: wiggleplotr_1.33.2.tar.gz PackageFileSize: 335.8 KiB