Package: wiggleplotr Version: 1.33.2 Command: /Library/Frameworks/R.framework/Resources/bin/R CMD INSTALL wiggleplotr StartedAt: 2025-10-24 15:34:45 -0400 (Fri, 24 Oct 2025) EndedAt: 2025-10-24 15:34:53 -0400 (Fri, 24 Oct 2025) EllapsedTime: 8.1 seconds RetCode: 0 Status: OK