Package: wiggleplotr Version: 1.33.2 Command: /Library/Frameworks/R.framework/Resources/bin/R CMD build --keep-empty-dirs --no-resave-data wiggleplotr StartedAt: 2025-10-24 19:13:49 -0400 (Fri, 24 Oct 2025) EndedAt: 2025-10-24 19:14:32 -0400 (Fri, 24 Oct 2025) EllapsedTime: 42.2 seconds RetCode: 0 Status: OK PackageFile: wiggleplotr_1.33.2.tar.gz PackageFileSize: 401.4 KiB