Package: widgetTools Version: 1.88.0 Command: /Library/Frameworks/R.framework/Resources/bin/R CMD build --keep-empty-dirs --no-resave-data widgetTools StartedAt: 2025-11-18 03:17:54 -0500 (Tue, 18 Nov 2025) EndedAt: 2025-11-18 03:18:15 -0500 (Tue, 18 Nov 2025) EllapsedTime: 21.1 seconds RetCode: 0 Status: OK PackageFile: widgetTools_1.88.0.tar.gz PackageFileSize: 227 KiB