Package: widgetTools Version: 1.88.0 Command: rm -rf widgetTools.buildbin-libdir && mkdir widgetTools.buildbin-libdir && /Users/biocbuild/BBS/utils/build-universal.sh widgetTools_1.88.0.tar.gz /Library/Frameworks/R.framework/Resources/bin/R widgetTools.buildbin-libdir StartedAt: 2025-11-18 18:49:41 -0500 (Tue, 18 Nov 2025) EndedAt: 2025-11-18 18:49:52 -0500 (Tue, 18 Nov 2025) EllapsedTime: 11.1 seconds RetCode: 0 Status: OK PackageFile: widgetTools_1.88.0.tgz PackageFileSize: 449.5 KiB