Package: widgetTools Version: 1.88.0 Command: /Library/Frameworks/R.framework/Resources/bin/R CMD INSTALL widgetTools StartedAt: 2025-11-03 15:11:28 -0500 (Mon, 03 Nov 2025) EndedAt: 2025-11-03 15:12:04 -0500 (Mon, 03 Nov 2025) EllapsedTime: 36.0 seconds RetCode: 0 Status: OK