Package: widgetTools Version: 1.88.0 Command: /Library/Frameworks/R.framework/Resources/bin/R CMD build --keep-empty-dirs --no-resave-data widgetTools StartedAt: 2025-11-03 19:14:49 -0500 (Mon, 03 Nov 2025) EndedAt: 2025-11-03 19:15:04 -0500 (Mon, 03 Nov 2025) EllapsedTime: 14.8 seconds RetCode: 0 Status: OK PackageFile: widgetTools_1.88.0.tar.gz PackageFileSize: 226.9 KiB