Package: widgetTools Version: 1.88.0 Command: rm -rf widgetTools.buildbin-libdir && mkdir widgetTools.buildbin-libdir && /Users/biocbuild/BBS/utils/build-universal.sh widgetTools_1.88.0.tar.gz /Library/Frameworks/R.framework/Resources/bin/R widgetTools.buildbin-libdir StartedAt: 2025-11-04 02:10:38 -0500 (Tue, 04 Nov 2025) EndedAt: 2025-11-04 02:10:48 -0500 (Tue, 04 Nov 2025) EllapsedTime: 9.2 seconds RetCode: 0 Status: OK PackageFile: widgetTools_1.88.0.tgz PackageFileSize: 448.8 KiB