Package: widgetTools Version: 1.87.0 Command: /Library/Frameworks/R.framework/Resources/bin/R CMD INSTALL widgetTools StartedAt: 2025-10-26 15:02:42 -0400 (Sun, 26 Oct 2025) EndedAt: 2025-10-26 15:02:50 -0400 (Sun, 26 Oct 2025) EllapsedTime: 8.3 seconds RetCode: 0 Status: OK