Package: widgetTools Version: 1.88.0 Command: /Library/Frameworks/R.framework/Resources/bin/R CMD INSTALL widgetTools StartedAt: 2025-11-17 16:56:40 -0500 (Mon, 17 Nov 2025) EndedAt: 2025-11-17 16:56:44 -0500 (Mon, 17 Nov 2025) EllapsedTime: 3.8 seconds RetCode: 0 Status: OK