Package: widgetTools Version: 1.88.0 Command: /Library/Frameworks/R.framework/Resources/bin/R CMD build --keep-empty-dirs --no-resave-data widgetTools StartedAt: 2025-11-18 02:15:20 -0500 (Tue, 18 Nov 2025) EndedAt: 2025-11-18 02:15:29 -0500 (Tue, 18 Nov 2025) EllapsedTime: 9.1 seconds RetCode: 0 Status: OK PackageFile: widgetTools_1.88.0.tar.gz PackageFileSize: 228.1 KiB