Package: widgetTools Version: 1.88.0 Maintainer: Jianhua Zhang MaintainerEmail: jzhang at jimmy.harvard.edu git_url: https://git.bioconductor.org/packages/widgetTools git_branch: RELEASE_3_22 git_last_commit: 8bc181e git_last_commit_date: 2025-10-29 09:42:19 -0500 (Wed, 29 Oct 2025)