Package: webbioc Version: 1.81.0 Command: /home/biocbuild/bbs-3.22-bioc/R/bin/R CMD INSTALL webbioc StartedAt: 2025-10-24 15:55:44 -0400 (Fri, 24 Oct 2025) EndedAt: 2025-10-24 15:56:05 -0400 (Fri, 24 Oct 2025) EllapsedTime: 21.3 seconds RetCode: 0 Status: OK