Package: webbioc Version: 1.82.0 Command: /home/biocbuild/bbs-3.22-bioc/R/bin/R CMD check --install=check:webbioc.install-out.txt --library=/home/biocbuild/bbs-3.22-bioc/R/site-library --timings webbioc_1.82.0.tar.gz StartedAt: 2025-11-15 05:38:20 -0500 (Sat, 15 Nov 2025) EndedAt: 2025-11-15 05:39:59 -0500 (Sat, 15 Nov 2025) EllapsedTime: 99.1 seconds RetCode: 0 Status: OK CheckDir: webbioc.Rcheck Warnings: 0