Package: webbioc Version: 1.81.0 Command: /Library/Frameworks/R.framework/Resources/bin/R CMD INSTALL webbioc StartedAt: 2025-10-24 15:47:03 -0400 (Fri, 24 Oct 2025) EndedAt: 2025-10-24 15:47:32 -0400 (Fri, 24 Oct 2025) EllapsedTime: 29.1 seconds RetCode: 0 Status: OK