Package: webbioc Version: 1.81.0 Command: rm -rf webbioc.buildbin-libdir && mkdir webbioc.buildbin-libdir && /Users/biocbuild/BBS/utils/build-universal.sh webbioc_1.81.0.tar.gz /Library/Frameworks/R.framework/Resources/bin/R webbioc.buildbin-libdir StartedAt: 2025-10-25 02:10:37 -0400 (Sat, 25 Oct 2025) EndedAt: 2025-10-25 02:11:13 -0400 (Sat, 25 Oct 2025) EllapsedTime: 36.5 seconds RetCode: 0 Status: OK PackageFile: webbioc_1.81.0.tgz PackageFileSize: 310.2 KiB