Package: webbioc Version: 1.81.0 Command: /Library/Frameworks/R.framework/Resources/bin/R CMD build --keep-empty-dirs --no-resave-data webbioc StartedAt: 2025-10-26 18:20:50 -0400 (Sun, 26 Oct 2025) EndedAt: 2025-10-26 18:21:03 -0400 (Sun, 26 Oct 2025) EllapsedTime: 13.1 seconds RetCode: 0 Status: OK PackageFile: webbioc_1.81.0.tar.gz PackageFileSize: 311.3 KiB