Package: weaver Version: 1.76.0 Command: rm -rf weaver.buildbin-libdir && mkdir weaver.buildbin-libdir && /Users/biocbuild/BBS/utils/build-universal.sh weaver_1.76.0.tar.gz /Library/Frameworks/R.framework/Resources/bin/R weaver.buildbin-libdir StartedAt: 2025-11-10 23:41:04 -0500 (Mon, 10 Nov 2025) EndedAt: 2025-11-10 23:41:05 -0500 (Mon, 10 Nov 2025) EllapsedTime: 1.0 seconds RetCode: 0 Status: OK PackageFile: weaver_1.76.0.tgz PackageFileSize: 272.5 KiB