Package: wavClusteR Version: 2.44.0 Command: /home/biocbuild/bbs-3.22-bioc/R/bin/R CMD INSTALL wavClusteR StartedAt: 2025-11-16 15:41:22 -0500 (Sun, 16 Nov 2025) EndedAt: 2025-11-16 15:42:06 -0500 (Sun, 16 Nov 2025) EllapsedTime: 44.0 seconds RetCode: 0 Status: OK