Package: wateRmelon Version: 2.16.0 Command: /home/biocbuild/bbs-3.22-bioc/R/bin/R CMD INSTALL wateRmelon StartedAt: 2025-11-17 18:20:31 -0500 (Mon, 17 Nov 2025) EndedAt: 2025-11-17 18:21:30 -0500 (Mon, 17 Nov 2025) EllapsedTime: 59.4 seconds RetCode: 0 Status: OK